BEGIN:VCALENDAR
VERSION:2.0
PRODID:https://www.diw.de/de/diw_01.c.806339.de/veranstaltungen.html
METHOD:PUBLISH
CALSCALE:GREGORIAN
BEGIN:VEVENT
UID:diw_01.c.391653.de
LOCATION:Ferdinand-Friedensburg-Raum,DIW Berlin,2.3.001,Anton-Wilhelm-Amo-Straße 58,10117 Berlin
SUMMARY:Round-trip versus genuine foreign investment in Russia
DESCRIPTION:12:15-13:45 Uhr // 
DTSTART;VALUE=DATE:20120301
DTEND;VALUE=DATE:20120301
DTSTAMP:20111221T230000Z
URL:https://www.diw.de/de/diw_01.c.391653.de/veranstaltungen/round_trip_versus_genuine_foreign_investment_in_russia.html
END:VEVENT
END:VCALENDAR