BEGIN:VCALENDAR
VERSION:2.0
PRODID:https://www.diw.de/de/diw_01.c.806339.de/veranstaltungen.html
METHOD:PUBLISH
CALSCALE:GREGORIAN
BEGIN:VEVENT
UID:diw_01.c.393062.de
LOCATION:Ferdinand-Friedensburg-Raum,DIW Berlin,2.3.001,Anton-Wilhelm-Amo-Straße 58,10117 Berlin
SUMMARY:Target2 and the European sovereign debt crisis
DESCRIPTION:12:15-13:45 Uhr // 
DTSTART;VALUE=DATE:20120503
DTEND;VALUE=DATE:20120503
DTSTAMP:20120219T230000Z
URL:https://www.diw.de/de/diw_01.c.393062.de/veranstaltungen/target2_and_the_european_sovereign_debt_crisis.html
END:VEVENT
END:VCALENDAR