BEGIN:VCALENDAR
VERSION:2.0
PRODID:https://www.diw.de/de/diw_01.c.806339.de/veranstaltungen.html
METHOD:PUBLISH
CALSCALE:GREGORIAN
BEGIN:VEVENT
UID:diw_01.c.398773.de
LOCATION:Eleanor-Dulles-Raum,DIW Berlin im Quartier 110,5.2.010,Anton-Wilhelm-Amo-Straße 58,10117 Berlin
SUMMARY:When credit bites back: Leverage, business cycles, and crises
DESCRIPTION:12:15-13:45 Uhr // 
DTSTART;VALUE=DATE:20120412
DTEND;VALUE=DATE:20120412
DTSTAMP:20120502T220000Z
URL:https://www.diw.de/de/diw_01.c.398773.de/veranstaltungen/when_credit_bites_back_leverage_business_cycles_and_crises.html
END:VEVENT
END:VCALENDAR