BEGIN:VCALENDAR
VERSION:2.0
PRODID:https://www.diw.de/de/diw_01.c.806339.de/veranstaltungen.html
METHOD:PUBLISH
CALSCALE:GREGORIAN
BEGIN:VEVENT
UID:diw_01.c.398775.de
LOCATION:Arthur-Cecil-Pigou-Raum,DIW Berlin im Quartier 110,3.3.002C,Anton-Wilhelm-Amo-Straße 58,10117 Berlin,Deutschland
SUMMARY:IMM - Internationales Makroökonomisches Modell
DESCRIPTION:12:15-13:45 Uhr // 
DTSTART;VALUE=DATE:20120607
DTEND;VALUE=DATE:20120607
DTSTAMP:20120502T220000Z
URL:https://www.diw.de/de/diw_01.c.398775.de/veranstaltungen/imm_internationales_makrooekonomisches_modell.html
END:VEVENT
END:VCALENDAR