BEGIN:VCALENDAR
VERSION:2.0
PRODID:https://www.diw.de/de/diw_01.c.806339.de/veranstaltungen.html
METHOD:PUBLISH
CALSCALE:GREGORIAN
BEGIN:VEVENT
UID:diw_01.c.498251.de
LOCATION:Universität Potsdam
SUMMARY:EVA-MIN Summer School “Effects and Evaluation of Minimum Wages”
DESCRIPTION:Der diesjährige Potsdam PhD Workshop in Empirical Economics wird als Summer School mit einem besonderen Fokus auf das Thema "Effekte und Evaluation des Mindestlohns" stattfinden. Er ist Teil des Leibniz-Forschungsprojekts EVA-MIN. Im Rahmen der Summer School sollen theoretische Effekte, Herangehensweisen an eine Evaluierung der Auswirkungen und bereits bestehende empirische Evidenzen des Mindestlohns diskutiert werden. Talentierten und interessierten jungen Wissenschaftler_innen wird die Möglichkeit geboten, ihre eigenen Forschungsprojekte in Poster Sessions zu präsentieren und kritisch zu besprechen.  Mehr Informationen gibt es im Call for Papers und auf der Projektseite des EVA-MIN-Projektes.
DTSTART;VALUE=DATE:20150920T220000Z
DTEND;VALUE=DATE:20150924T220000Z
DTSTAMP:20150308T230000Z
URL:https://www.diw.de/de/diw_01.c.498251.de/veranstaltungen/eva_min_summer_school_effects_and_evaluation_of_minimum_wages.html
ORGANIZER;CN=Carsten Schröder:mailto:cschroeder@diw.de
END:VEVENT
END:VCALENDAR