BEGIN:VCALENDAR
VERSION:2.0
PRODID:https://www.diw.de/de/diw_01.c.806339.de/veranstaltungen.html
METHOD:PUBLISH
CALSCALE:GREGORIAN
BEGIN:VEVENT
UID:diw_01.c.502489.de
LOCATION:Schumpeter Saal,DIW Berlin im Quartier 110,Anton-Wilhelm-Amo-Straße 58,10117 Berlin
SUMMARY:IWF-Report zur globalen Finanzmarktstabilität
DESCRIPTION:10:00 - 11:30 Uhr // Gaston Gelos, Leiter der Abteilung Globale Finanzstabilität des Internationalen Währungsfonds, stellt den im April 2015 veröffentlichten Bericht zur globalen Finanzmarktstabilität vor. Welches Risiko bergen Investmentfonds für die Finanzstabilität?  Und: Wie hat sich das internationale Bankenwesen seit der Krise verändert? Ursachen und Folgen.Moderiert wird die Veranstaltung von Dr. Malte Rieth (DIW Berlin).  Wir freuen uns auf Ihre Teilnahme und bitten um Ihre verbindliche Anmeldung unter events@diw.de.
DTSTART;VALUE=DATE:20150511
DTEND;VALUE=DATE:20150511
DTSTAMP:20150419T220000Z
URL:https://www.diw.de/de/diw_01.c.502489.de/veranstaltungen/iwf_report_zur_globalen_finanzmarktstabilitaet.html
END:VEVENT
END:VCALENDAR