BEGIN:VCALENDAR
VERSION:2.0
PRODID:https://www.diw.de/de/diw_01.c.806339.de/veranstaltungen.html
METHOD:PUBLISH
CALSCALE:GREGORIAN
BEGIN:VEVENT
UID:diw_01.c.543897.de
LOCATION:Schumpeter Hall,Anton-Wilhelm-Amo-Strasse 58,10117 Berlin
SUMMARY:IWF-Report zur globalen Finanzmarktstabilität 
DESCRIPTION:11.45 bis 13.00 Uhr // Gaston Gelos stellt den im Herbst 2016 veröffentlichten Bericht zur globalen Finanzmarktstabilität vor. Wo liegen die aktuellen Risiken zur Finanzstabilität weltweit? Desweiteren: Verliert die Geldpolitik durch die wachsende Rolle der Nichtbanken an Effektivität? Und: Welche Konsequenzen für die internationale Stabilität hat die Corporate Governance in Schwellenländern?
DTSTART;VALUE=DATE:20161021
DTEND;VALUE=DATE:20161021
DTSTAMP:20161004T220000Z
URL:https://www.diw.de/de/diw_01.c.543897.de/veranstaltungen/iwf_report_zur_globalen_finanzmarktstabilitaet.html
ORGANIZER;CN=Christiane Zschech:mailto:events@diw.de
END:VEVENT
END:VCALENDAR