BEGIN:VCALENDAR
VERSION:2.0
PRODID:https://www.diw.de/de/diw_01.c.806339.de/veranstaltungen.html
METHOD:PUBLISH
CALSCALE:GREGORIAN
BEGIN:VEVENT
UID:diw_01.c.801574.de
LOCATION:Video conference via Cisco Webex 
SUMMARY:Präsentation des Finanzstabilitätsberichts der Bundesbank
DESCRIPTION:11:00&nbsp;bis 12:15 // Vorstellung des Finanzstabilitätsberichts 2020  Wir bitten um Anmeldung per Mail an: akegel@diw.de
DTSTART;VALUE=DATE:20201112
DTEND;VALUE=DATE:20201112
DTSTAMP:20201027T230000Z
URL:https://www.diw.de/de/diw_01.c.801574.de/veranstaltungen/praesentation_des_finanzstabilitaetsberichts_der_bundesbank.html
ORGANIZER;CN=Franziska Bremus:mailto:fbremus@diw.de
END:VEVENT
END:VCALENDAR