BEGIN:VCALENDAR
VERSION:2.0
PRODID:https://www.diw.de/de/diw_01.c.806339.de/veranstaltungen.html
METHOD:PUBLISH
CALSCALE:GREGORIAN
BEGIN:VEVENT
UID:diw_01.c.941538.de
LOCATION:Elinor-Ostrom-Saal,DIW Berlin,1.2.019,Anton-Wilhelm-Amo-Straße 58,10117 Berlin
SUMMARY:FINANCE FORSCHUNG FINGERFOOD
DESCRIPTION:17.00-19.00 Uhr // Staatsverschuldung ist seit langem ein kontroverses Thema in der deutschen Politik. Die Ergebnisse der Bundestagswahl 2025 sowie die darauffolgende Schaffung von Sondervermögen für Verteidigung und Infrastruktur und die Reform der Schuldenbremse haben eine neue Dynamik ausgelöst und die Debatte über Fiskalpolitik, Schuldenmanagement und Schuldentragfähigkeit neu belebt. In der Veranstaltungsreihe treten führende Wissenschaftler*innen und politische Entscheidungsträger*innen in Dialog, um zentrale Aspekte der Staatsverschuldung und ihre Auswirkungen auf wirtschaftliche Stabilität und politische Entscheidungsprozesse zu beleuchten.
DTSTART:20250409T150000Z
DTEND:20250409T170000Z
DTSTAMP:20250317T230000Z
URL:https://www.diw.de/de/diw_01.c.941538.de/veranstaltungen/finance_forschung_fingerfood.html
ORGANIZER;CN=Christiane Zschech:mailto:events@diw.de
END:VEVENT
END:VCALENDAR