BEGIN:VCALENDAR
VERSION:2.0
PRODID:https://www.diw.de/de/diw_01.c.806339.de/veranstaltungen.html
METHOD:PUBLISH
CALSCALE:GREGORIAN
BEGIN:VEVENT
UID:diw_01.c.972450.de
LOCATION:Elinor-Ostrom-Saal,DIW Berlin,1.2.019,Anton-Wilhelm-Amo-Straße 58,10117 Berlin
SUMMARY:Vorstellung der Herbstprognose
DESCRIPTION:12:00-14:00 Uhr // Die Veranstaltung bietet eine Plattform für den Austausch über wirtschaftliche Herausforderungen und mögliche Lösungsansätze. Typische Themen umfassen die Auswirkungen globaler wirtschaftlicher Trends, geldpolitische Maßnahmen sowie die wirtschaftliche Lage Deutschlands und der Welt.  Im Mittelpunkt der Veranstaltung steht die etwa einstündige Präsentation der Konjunktureinschätzung des DIW Berlin.  Die Teilnahme ist ausschließlich auf persönliche Einladung möglich.
DTSTART:20250826T100000Z
DTEND:20250826T120000Z
DTSTAMP:20250831T220000Z
URL:https://www.diw.de/de/diw_01.c.972450.de/veranstaltungen/vorstellung_der_herbstprognose.html
ORGANIZER;CN=Christiane Zschech:mailto:events@diw.de
END:VEVENT
END:VCALENDAR