BEGIN:VCALENDAR
VERSION:2.0
PRODID:https://www.diw.de/de/diw_01.c.806339.de/veranstaltungen.html
METHOD:PUBLISH
CALSCALE:GREGORIAN
BEGIN:VEVENT
UID:diw_01.c.975976.de
LOCATION:Elinor-Ostrom-Saal,DIW Berlin,1.2.019,Anton-Wilhelm-Amo-Straße 58,10117 Berlin
SUMMARY:FINANCE FORSCHUNG FINGERFOOD
DESCRIPTION:16.00-18.00 Uhr // Indikatoren sind zentrale Werkzeuge zur Vermessung ökonomischer und gesellschaftlicher Entwicklungen. Sie strukturieren Informationen, die politische Entscheidungen in komplexen Handlungsfeldern wie Nachhaltigkeit, Unternehmensfinanzierung oder Immobilienmärkten prägen. Doch welche Indikatoren erfassen die Realität adäquat, und wie lassen sich wissenschaftliche Ansätze in politische Prozesse übersetzen? In der zweiten Ausgabe der Reihe „Finance Forschung Fingerfood“ treten Wissenschaftler*innen und politische Entscheidungsträger*innen in einen Dialog darüber, wie neue Messansätze und Datenquellen helfen können, aktuelle Herausforderungen der Finanzpolitik präziser zu bewerten und fundierte Entscheidungen zu ermöglichen.
DTSTART:20251119T150000Z
DTEND:20251119T170000Z
DTSTAMP:20250317T230000Z
URL:https://www.diw.de/de/diw_01.c.975976.de/veranstaltungen/finance_forschung_fingerfood.html
ORGANIZER;CN=Christiane Zschech:mailto:events@diw.de
END:VEVENT
END:VCALENDAR